BEGIN:VCALENDAR
VERSION:2.0
PRODID:-//USMC KARATE - ECPv6.15.20//NONSGML v1.0//EN
CALSCALE:GREGORIAN
METHOD:PUBLISH
X-ORIGINAL-URL:https://www.lesclayeskarate.club
X-WR-CALDESC:Évènements pour USMC KARATE
REFRESH-INTERVAL;VALUE=DURATION:PT1H
X-Robots-Tag:noindex
X-PUBLISHED-TTL:PT1H
BEGIN:VTIMEZONE
TZID:Europe/Paris
BEGIN:DAYLIGHT
TZOFFSETFROM:+0100
TZOFFSETTO:+0200
TZNAME:CEST
DTSTART:20230326T010000
END:DAYLIGHT
BEGIN:STANDARD
TZOFFSETFROM:+0200
TZOFFSETTO:+0100
TZNAME:CET
DTSTART:20231029T010000
END:STANDARD
BEGIN:DAYLIGHT
TZOFFSETFROM:+0100
TZOFFSETTO:+0200
TZNAME:CEST
DTSTART:20240331T010000
END:DAYLIGHT
BEGIN:STANDARD
TZOFFSETFROM:+0200
TZOFFSETTO:+0100
TZNAME:CET
DTSTART:20241027T010000
END:STANDARD
BEGIN:DAYLIGHT
TZOFFSETFROM:+0100
TZOFFSETTO:+0200
TZNAME:CEST
DTSTART:20250330T010000
END:DAYLIGHT
BEGIN:STANDARD
TZOFFSETFROM:+0200
TZOFFSETTO:+0100
TZNAME:CET
DTSTART:20251026T010000
END:STANDARD
BEGIN:DAYLIGHT
TZOFFSETFROM:+0100
TZOFFSETTO:+0200
TZNAME:CEST
DTSTART:20260329T010000
END:DAYLIGHT
BEGIN:STANDARD
TZOFFSETFROM:+0200
TZOFFSETTO:+0100
TZNAME:CET
DTSTART:20261025T010000
END:STANDARD
END:VTIMEZONE
BEGIN:VTIMEZONE
TZID:Europe/Paris
BEGIN:DAYLIGHT
TZOFFSETFROM:+0100
TZOFFSETTO:+0200
TZNAME:CEST
DTSTART:20240331T010000
END:DAYLIGHT
BEGIN:STANDARD
TZOFFSETFROM:+0200
TZOFFSETTO:+0100
TZNAME:CET
DTSTART:20241027T010000
END:STANDARD
BEGIN:DAYLIGHT
TZOFFSETFROM:+0100
TZOFFSETTO:+0200
TZNAME:CEST
DTSTART:20250330T010000
END:DAYLIGHT
BEGIN:STANDARD
TZOFFSETFROM:+0200
TZOFFSETTO:+0100
TZNAME:CET
DTSTART:20251026T010000
END:STANDARD
BEGIN:DAYLIGHT
TZOFFSETFROM:+0100
TZOFFSETTO:+0200
TZNAME:CEST
DTSTART:20260329T010000
END:DAYLIGHT
BEGIN:STANDARD
TZOFFSETFROM:+0200
TZOFFSETTO:+0100
TZNAME:CET
DTSTART:20261025T010000
END:STANDARD
END:VTIMEZONE
BEGIN:VTIMEZONE
TZID:UTC
BEGIN:STANDARD
TZOFFSETFROM:+0000
TZOFFSETTO:+0000
TZNAME:UTC
DTSTART:20230101T000000
END:STANDARD
END:VTIMEZONE
BEGIN:VEVENT
DTSTART;TZID=Europe/Paris:20251208T180000
DTEND;TZID=Europe/Paris:20251209T203000
DTSTAMP:20260423T190947
CREATED:20241114T115016Z
LAST-MODIFIED:20251117T171432Z
UID:2042-1765216800-1765312200@www.lesclayeskarate.club
SUMMARY:Passages de Grade - Décembre 2025
DESCRIPTION:Préparez-vous au passages de Grade !\nLes 8 et 9 décembre prochains auront lieu les 1er passages de grades au gymnase GILARDI \nLe lundi 8 décembre : \n\nPour le groupe « enfant » (poussins) les passages seront organisés au gymnase Gilardi de 18H à 19H00\nPour les « ados et les adultes » les passages seront organisés au gymnase Gilardi de 19h00 à 20h30\n\nLe mardi 9 décembre \n\nPour le groupe des « jeunes » les passages seront organisés au gymnase Gilardi de 19h00 à 20h00
URL:https://www.lesclayeskarate.club/evenement/passages-de-grade-decembre-2025/
LOCATION:Gymnase GILARDI\, Rle Mathieu\, Les Clayes-sous-Bois\, 78340\, France
ATTACH;FMTTYPE=image/png:https://www.lesclayeskarate.club/wp-content/uploads/2024/11/ceinture_passage_grade.png
END:VEVENT
BEGIN:VEVENT
DTSTART;TZID=Europe/Paris:20250516T190000
DTEND;TZID=Europe/Paris:20250516T190000
DTSTAMP:20260423T190947
CREATED:20241114T113327Z
LAST-MODIFIED:20241114T113422Z
UID:2039-1747422000-1747422000@www.lesclayeskarate.club
SUMMARY:Stage Technique Kumite - Mai 2025
DESCRIPTION:Un stage technique proposé à l’ensemble des pratiquants se déroulera le 2 juin 2025. \nIl aura lieu au gymnase GUIMIER aux heures d’entrainement habituel de 19h00 à 20h30. \nAu programme :\n– Kumite\n– Katas\n– Travail technique et révision des acquis du premier trimestre. \nQuel que soit votre âge ou votre niveau\, vous êtes le bienvenu. Il s’agira de conclure la saison en mettant en pratiques les acquis dispensés tou au long de l’année.
URL:https://www.lesclayeskarate.club/evenement/stage-technique-kumite-mai-2025/
LOCATION:Gymnase Guimier\, Gymnase Guimier\, Les Clayes-sous-Bois\, 78340\, France
END:VEVENT
BEGIN:VEVENT
DTSTART;TZID=Europe/Paris:20250110T190000
DTEND;TZID=Europe/Paris:20250110T203000
DTSTAMP:20260423T190947
CREATED:20170515T074130Z
LAST-MODIFIED:20241220T103142Z
UID:335-1736535600-1736541000@www.lesclayeskarate.club
SUMMARY:Galette des Rois
DESCRIPTION:Chers Membre de la section\, \nOrganisée chaque année par le club\, cette manifestation très festive de début d’année est l’opportunité de se rencontrer\, d’échanger\, et d’informer nos adhérents des activités du premier trimestre du club et de donner les perspectives sur l’activité de la section pour l’année qui se dessine. \nPratiquants et parents de pratiquants\, nous vous invitions donc a partager avec nous cette galette\, à la cafétéria du gymnase du Parc Carillon\, situé :\n2\, rue des Saules\, aux Clayes\, à 19h00. \nNous vous attendons nombreux !
URL:https://www.lesclayeskarate.club/evenement/galette-des-rois/
LOCATION:gymnase CARILLON\, 2 rue des Saules\, les clayes-sous-bois\, 78340\, France
ATTACH;FMTTYPE=image/jpeg:https://www.lesclayeskarate.club/wp-content/uploads/2017/05/Galette-des-rois-scaled.jpeg
ORGANIZER;CN="Sylvain Pavlowski":MAILTO:dirigeant.karate@karate.usmc-78.org
END:VEVENT
BEGIN:VEVENT
DTSTART;TZID=UTC:20241213T190000
DTEND;TZID=UTC:20241213T203000
DTSTAMP:20260423T190947
CREATED:20170515T075543Z
LAST-MODIFIED:20241114T112946Z
UID:348-1734116400-1734121800@www.lesclayeskarate.club
SUMMARY:Stage Technique Kumite - Décembre 2024
DESCRIPTION:Un stage technique proposé à l’ensemble des pratiquants se déroulera le vendredi 13 décembre prochain. \nIl aura lieu au gymnase GUIMIER aux heures d’entrainement habituel de 19h00 à 20h30. \nAu programme :\n– Kumite\n– Katas\n– Travail technique et révision des acquis du premier trimestre. \nQuel que soit votre âge ou votre niveau\, vous êtes le bienvenu.
URL:https://www.lesclayeskarate.club/evenement/stage-kumite-decembre/
LOCATION:Gymnase Guimier\, Gymnase Guimier\, Les Clayes-sous-Bois\, 78340\, France
ATTACH;FMTTYPE=image/jpeg:https://www.lesclayeskarate.club/wp-content/uploads/2017/06/cours_adultes_VRAI.jpg
END:VEVENT
BEGIN:VEVENT
DTSTART;TZID=Europe/Paris:20241129T190000
DTEND;TZID=Europe/Paris:20241129T203000
DTSTAMP:20260423T190947
CREATED:20241118T222359Z
LAST-MODIFIED:20241118T222553Z
UID:2259-1732906800-1732912200@www.lesclayeskarate.club
SUMMARY:Téléthon
DESCRIPTION:Le 29 novembre la section Karaté sera sur le tatami pour s’associer au Téléthon 2024 \nNous vous donnons rendez-vous le 29 Novembre prochain au gymnase Gilardi\, à 19h30 pour une démonstration de karaté. La section est solidaire du téléthon organisé aux Clayes et nos pratiquants présenteront dans la bonne humeur la pratique de notre sport. \nNous vous attendons nombreux pour grossir les rangs de la section !
URL:https://www.lesclayeskarate.club/evenement/telethon/
LOCATION:Gymnase GILARDI\, Rle Mathieu\, Les Clayes-sous-Bois\, 78340\, France
ATTACH;FMTTYPE=image/jpeg:https://www.lesclayeskarate.club/wp-content/uploads/2024/11/AFM_TELETHON_2024_Q.jpg
ORGANIZER;CN="Sylvain Pavlowski":MAILTO:dirigeant.karate@karate.usmc-78.org
END:VEVENT
END:VCALENDAR